BEGIN:VCALENDAR
VERSION:2.0
PRODID:-//Opioid COBRE Center - ECPv6.15.17.1//NONSGML v1.0//EN
CALSCALE:GREGORIAN
METHOD:PUBLISH
X-WR-CALNAME:Opioid COBRE Center
X-ORIGINAL-URL:https://opioidcobre.org
X-WR-CALDESC:Events for Opioid COBRE Center
REFRESH-INTERVAL;VALUE=DURATION:PT1H
X-Robots-Tag:noindex
X-PUBLISHED-TTL:PT1H
BEGIN:VTIMEZONE
TZID:America/New_York
BEGIN:DAYLIGHT
TZOFFSETFROM:-0500
TZOFFSETTO:-0400
TZNAME:EDT
DTSTART:20190310T070000
END:DAYLIGHT
BEGIN:STANDARD
TZOFFSETFROM:-0400
TZOFFSETTO:-0500
TZNAME:EST
DTSTART:20191103T060000
END:STANDARD
BEGIN:DAYLIGHT
TZOFFSETFROM:-0500
TZOFFSETTO:-0400
TZNAME:EDT
DTSTART:20200308T070000
END:DAYLIGHT
BEGIN:STANDARD
TZOFFSETFROM:-0400
TZOFFSETTO:-0500
TZNAME:EST
DTSTART:20201101T060000
END:STANDARD
BEGIN:DAYLIGHT
TZOFFSETFROM:-0500
TZOFFSETTO:-0400
TZNAME:EDT
DTSTART:20210314T070000
END:DAYLIGHT
BEGIN:STANDARD
TZOFFSETFROM:-0400
TZOFFSETTO:-0500
TZNAME:EST
DTSTART:20211107T060000
END:STANDARD
BEGIN:DAYLIGHT
TZOFFSETFROM:-0500
TZOFFSETTO:-0400
TZNAME:EDT
DTSTART:20220313T070000
END:DAYLIGHT
BEGIN:STANDARD
TZOFFSETFROM:-0400
TZOFFSETTO:-0500
TZNAME:EST
DTSTART:20221106T060000
END:STANDARD
END:VTIMEZONE
BEGIN:VEVENT
DTSTART;TZID=America/New_York:20210218T163000
DTEND;TZID=America/New_York:20210218T180000
DTSTAMP:20260422T182053
CREATED:20210126T131506Z
LAST-MODIFIED:20210126T131506Z
UID:10000150-1613665800-1613671200@opioidcobre.org
SUMMARY:Online Course | Pandemic Problem-Solving: Surviving and Thriving in the Age of Pandemics
DESCRIPTION:In this course\, Dean Ashish Jha and Dr. Megan Ranney are joined by national experts to share frameworks and tools for civil servants\, policymakers\, and business leaders charged with addressing the unprecedented challenges of the coronavirus pandemic in the U.S. \nLearn from these leaders and work through essential problem sets with peers from other industries and public agencies. Equip yourself with the concepts and tools needed to mitigate the pandemic’s immediate impact on your work and industry\, prepare your organization or community for a successful recovery\, increase its resilience against future pandemics\, and seize new opportunities for innovation and transformation provided by the pandemic. \nDates: February 16 to March 25\, 2021\nDays of the week: Tuesdays and Thursdays\nTiming: 4:30 – 6 pm EST / 1:30 – 3 pm PST\nRegister before: Sunday\, February 7\, 2021 \nGUEST EXPERTS INCLUDE:\nDave A. Chokshi\, MD\, MSc\, FACP\, commissioner of the New York City Department of Health and Mental Hygiene\nUché Blackstock\, MD\, Founder and CEO of Advancing Health Equity\, and a Board-certified Emergency Medicine physician\nMichael Mina\, MD\, PhD\, Assistant Professor of Epidemiology at the Harvard T. H. Chan School of Public Health and member of the Center for Communicable Disease Dynamics\nJoan Donovan\, PhD\, Research Director of the Shorenstein Center on Media\, Politics and Public Policy \nScholarships are available on an as-needed basis\, particularly for leaders serving the needs of vulnerable populations and disadvantaged communities.
URL:https://opioidcobre.org/event/online-course-pandemic-problem-solving-surviving-and-thriving-in-the-age-of-pandemics/2021-02-18/
LOCATION:Virtual
CATEGORIES:Local Events
ORGANIZER;CN="Brown School of Public Health":MAILTO:public_health@brown.edu
END:VEVENT
BEGIN:VEVENT
DTSTART;TZID=America/New_York:20210216T163000
DTEND;TZID=America/New_York:20210216T180000
DTSTAMP:20260422T182053
CREATED:20210126T131506Z
LAST-MODIFIED:20210126T131506Z
UID:10000149-1613493000-1613498400@opioidcobre.org
SUMMARY:Online Course | Pandemic Problem-Solving: Surviving and Thriving in the Age of Pandemics
DESCRIPTION:In this course\, Dean Ashish Jha and Dr. Megan Ranney are joined by national experts to share frameworks and tools for civil servants\, policymakers\, and business leaders charged with addressing the unprecedented challenges of the coronavirus pandemic in the U.S. \nLearn from these leaders and work through essential problem sets with peers from other industries and public agencies. Equip yourself with the concepts and tools needed to mitigate the pandemic’s immediate impact on your work and industry\, prepare your organization or community for a successful recovery\, increase its resilience against future pandemics\, and seize new opportunities for innovation and transformation provided by the pandemic. \nDates: February 16 to March 25\, 2021\nDays of the week: Tuesdays and Thursdays\nTiming: 4:30 – 6 pm EST / 1:30 – 3 pm PST\nRegister before: Sunday\, February 7\, 2021 \nGUEST EXPERTS INCLUDE:\nDave A. Chokshi\, MD\, MSc\, FACP\, commissioner of the New York City Department of Health and Mental Hygiene\nUché Blackstock\, MD\, Founder and CEO of Advancing Health Equity\, and a Board-certified Emergency Medicine physician\nMichael Mina\, MD\, PhD\, Assistant Professor of Epidemiology at the Harvard T. H. Chan School of Public Health and member of the Center for Communicable Disease Dynamics\nJoan Donovan\, PhD\, Research Director of the Shorenstein Center on Media\, Politics and Public Policy \nScholarships are available on an as-needed basis\, particularly for leaders serving the needs of vulnerable populations and disadvantaged communities.
URL:https://opioidcobre.org/event/online-course-pandemic-problem-solving-surviving-and-thriving-in-the-age-of-pandemics/2021-02-16/
LOCATION:Virtual
CATEGORIES:Local Events
ORGANIZER;CN="Brown School of Public Health":MAILTO:public_health@brown.edu
END:VEVENT
BEGIN:VEVENT
DTSTART;TZID=America/New_York:20201209T090000
DTEND;TZID=America/New_York:20201209T100000
DTSTAMP:20260422T182053
CREATED:20201202T152554Z
LAST-MODIFIED:20201202T152601Z
UID:10000136-1607504400-1607508000@opioidcobre.org
SUMMARY:The Pandemic\, Race\, and Health Equity in America
DESCRIPTION:Please Join Dr. Ashish K. Jha\, dean of the Brown University School of Public Health\, for a conversation about the Pandemic\, Race\, and Health Equity in America with Valerie Montgomery Rice\, MD\, FACOG\, president and dean of Morehouse School of Medicine. \nValerie Montgomery Rice\, MD\, FACOG\, provides a valuable combination of experience at the highest levels of patient care and medical research\, as well as organizational management and public health policy. Marrying her transformational leadership acumen and strategic thinking to tackle challenging management issues\, she has a track record of redesigning complex organizations’ infrastructures to reflect the needs of evolving strategic environments and position the organization for success through sustainability tactics. \nThe sixth president of Morehouse School of Medicine (MSM) and the first woman to lead the free-standing medical institution\, Montgomery Rice serves as both the president and dean. A renowned infertility specialist and researcher\, she most recently served as dean and executive vice president of MSM\, where she has served since 2011. \nAn interactive audience Q&A will follow. \nRegistration for this webinar is limited and on a first come first serve basis.
URL:https://opioidcobre.org/event/the-pandemic-race-and-health-equity-in-america/
LOCATION:Virtual
CATEGORIES:Local Events
ORGANIZER;CN="Brown School of Public Health":MAILTO:public_health@brown.edu
END:VEVENT
END:VCALENDAR