BEGIN:VCALENDAR
VERSION:2.0
PRODID:-//Opioid COBRE Center - ECPv6.15.17.1//NONSGML v1.0//EN
CALSCALE:GREGORIAN
METHOD:PUBLISH
X-WR-CALNAME:Opioid COBRE Center
X-ORIGINAL-URL:https://opioidcobre.org
X-WR-CALDESC:Events for Opioid COBRE Center
REFRESH-INTERVAL;VALUE=DURATION:PT1H
X-Robots-Tag:noindex
X-PUBLISHED-TTL:PT1H
BEGIN:VTIMEZONE
TZID:America/New_York
BEGIN:DAYLIGHT
TZOFFSETFROM:-0500
TZOFFSETTO:-0400
TZNAME:EDT
DTSTART:20200308T070000
END:DAYLIGHT
BEGIN:STANDARD
TZOFFSETFROM:-0400
TZOFFSETTO:-0500
TZNAME:EST
DTSTART:20201101T060000
END:STANDARD
BEGIN:DAYLIGHT
TZOFFSETFROM:-0500
TZOFFSETTO:-0400
TZNAME:EDT
DTSTART:20210314T070000
END:DAYLIGHT
BEGIN:STANDARD
TZOFFSETFROM:-0400
TZOFFSETTO:-0500
TZNAME:EST
DTSTART:20211107T060000
END:STANDARD
BEGIN:DAYLIGHT
TZOFFSETFROM:-0500
TZOFFSETTO:-0400
TZNAME:EDT
DTSTART:20220313T070000
END:DAYLIGHT
BEGIN:STANDARD
TZOFFSETFROM:-0400
TZOFFSETTO:-0500
TZNAME:EST
DTSTART:20221106T060000
END:STANDARD
END:VTIMEZONE
BEGIN:VEVENT
DTSTART;VALUE=DATE:20210208
DTEND;VALUE=DATE:20210213
DTSTAMP:20260422T185448
CREATED:20210128T164934Z
LAST-MODIFIED:20210128T164934Z
UID:10000148-1612742400-1613174399@opioidcobre.org
SUMMARY:Data:  Delivering a Better Future
DESCRIPTION:Virtual Love Data Week\nFebruary 8 – 12\, 2021\nWhat is Love Data Week? \nLove Data Week is an international celebration of data\, aiming to raise awareness and build a community to engage on topics related to research data management\, sharing\, preservation\, reuse\, and library-based research data services. This year Brown’s Love Data Week will be held online. Brown’s Virtual Love Data Week is sponsored by the Office of the Vice President for Research (OVPR) and the University Library. All departments are invited to host online data-related events during this week. \nWhat is the theme for 2021? \nThe theme of Brown’s Virtual Love Data Week 2021 is Data: Delivering a Better Future. The social media hashtag is #lovedata21. \nRaffle Prizes! \nWe will be giving away over 10 prizes this year! Earn a raffle ticket for each event you attend and for using #lovedata21. \n  \nClick here for the event list and registration link.
URL:https://opioidcobre.org/event/data-delivering-a-better-future/
CATEGORIES:Local Events
END:VEVENT
END:VCALENDAR