BEGIN:VCALENDAR
VERSION:2.0
PRODID:-//Opioid COBRE Center - ECPv6.15.17.1//NONSGML v1.0//EN
CALSCALE:GREGORIAN
METHOD:PUBLISH
X-ORIGINAL-URL:https://opioidcobre.org
X-WR-CALDESC:Events for Opioid COBRE Center
REFRESH-INTERVAL;VALUE=DURATION:PT1H
X-Robots-Tag:noindex
X-PUBLISHED-TTL:PT1H
BEGIN:VTIMEZONE
TZID:America/New_York
BEGIN:DAYLIGHT
TZOFFSETFROM:-0500
TZOFFSETTO:-0400
TZNAME:EDT
DTSTART:20190310T070000
END:DAYLIGHT
BEGIN:STANDARD
TZOFFSETFROM:-0400
TZOFFSETTO:-0500
TZNAME:EST
DTSTART:20191103T060000
END:STANDARD
BEGIN:DAYLIGHT
TZOFFSETFROM:-0500
TZOFFSETTO:-0400
TZNAME:EDT
DTSTART:20200308T070000
END:DAYLIGHT
BEGIN:STANDARD
TZOFFSETFROM:-0400
TZOFFSETTO:-0500
TZNAME:EST
DTSTART:20201101T060000
END:STANDARD
BEGIN:DAYLIGHT
TZOFFSETFROM:-0500
TZOFFSETTO:-0400
TZNAME:EDT
DTSTART:20210314T070000
END:DAYLIGHT
BEGIN:STANDARD
TZOFFSETFROM:-0400
TZOFFSETTO:-0500
TZNAME:EST
DTSTART:20211107T060000
END:STANDARD
END:VTIMEZONE
BEGIN:VEVENT
DTSTART;TZID=America/New_York:20201214T120000
DTEND;TZID=America/New_York:20201214T153000
DTSTAMP:20260422T191241
CREATED:20201202T143741Z
LAST-MODIFIED:20201202T144036Z
UID:10000139-1607947200-1607959800@opioidcobre.org
SUMMARY:2020 NAHEWD Virtual Conference on Substance Use\, HIV\, and HCV in Rhode Island
DESCRIPTION:Brown University AIDS Program is excited to announce that registration has officially opened for the 2020 NAHEWD Virtual Conference on Substance Use\, HIV\, and HCV in Rhode Island! This half-day conference will feature presentations from the Rhode Island Department of Health AND community-based healthcare professionals on topics including – Improving health outcomes for individuals who use drugs\, Epidemiological data analysis\, Regional & local trends in SUD/HIV/HCV\, the impact of HIV/HCV on disproportionately impacted populations\, and more!   \nEarn CEU Credits: This is a CEU registered event. All attendees are eligible to receive CME\, CNE\, or Social Work CE Credits.
URL:https://opioidcobre.org/event/2020-nahewd-virtual-conference-on-substance-use-hiv-and-hcv-in-rhode-island/
LOCATION:Virtual
CATEGORIES:Local Events
ORGANIZER;CN="Brown University AIDS Program":MAILTO:azanowickmarr@lifespan.org
END:VEVENT
END:VCALENDAR