BEGIN:VCALENDAR
VERSION:2.0
PRODID:-//Opioid COBRE Center - ECPv6.15.17.1//NONSGML v1.0//EN
CALSCALE:GREGORIAN
METHOD:PUBLISH
X-WR-CALNAME:Opioid COBRE Center
X-ORIGINAL-URL:https://opioidcobre.org
X-WR-CALDESC:Events for Opioid COBRE Center
REFRESH-INTERVAL;VALUE=DURATION:PT1H
X-Robots-Tag:noindex
X-PUBLISHED-TTL:PT1H
BEGIN:VTIMEZONE
TZID:America/New_York
BEGIN:DAYLIGHT
TZOFFSETFROM:-0500
TZOFFSETTO:-0400
TZNAME:EDT
DTSTART:20200308T070000
END:DAYLIGHT
BEGIN:STANDARD
TZOFFSETFROM:-0400
TZOFFSETTO:-0500
TZNAME:EST
DTSTART:20201101T060000
END:STANDARD
BEGIN:DAYLIGHT
TZOFFSETFROM:-0500
TZOFFSETTO:-0400
TZNAME:EDT
DTSTART:20210314T070000
END:DAYLIGHT
BEGIN:STANDARD
TZOFFSETFROM:-0400
TZOFFSETTO:-0500
TZNAME:EST
DTSTART:20211107T060000
END:STANDARD
BEGIN:DAYLIGHT
TZOFFSETFROM:-0500
TZOFFSETTO:-0400
TZNAME:EDT
DTSTART:20220313T070000
END:DAYLIGHT
BEGIN:STANDARD
TZOFFSETFROM:-0400
TZOFFSETTO:-0500
TZNAME:EST
DTSTART:20221106T060000
END:STANDARD
END:VTIMEZONE
BEGIN:VEVENT
DTSTART;TZID=America/New_York:20210330T110000
DTEND;TZID=America/New_York:20210330T120000
DTSTAMP:20260422T162805
CREATED:20210324T135028Z
LAST-MODIFIED:20210324T135028Z
UID:10000094-1617102000-1617105600@opioidcobre.org
SUMMARY:COVID-19 Vaccine Update
DESCRIPTION:Exploring recent achievements and challenges in the development\, approval\, allocation and distribution of the SARS-CoV-2 vaccine.\n\n\n\n\n\nAbout this Event\n\n\nA year ago the idea of having several vaccines ready to distribute within a year seemed insurmountable. But science prevailed and the recent development of the SARS-CoV2 vaccine was the fastest in history. Join us to learn how the vaccine’s development has opened a new innovation window that we can learn from for the future – and possibly prevent the next epidemic from becoming a pandemic. \nCOVID-19 Vaccine \nWhat we’ve learned & what it means for the future. \nOur webinar and panel discussion will explore recent achievements and challenges in the development\, approval\, allocation and distribution of the SARS-CoV-2 vaccine. Hear from industry\, scientific and front-line experts on the COVID-19 response and the future of healthcare innovation. Our discussion will focus on new technologies\, return-to-work and the health\, societal and economic challenges ahead. \nHOSTS \n\nCarol Malysz\, Executive Director\, RI Bio\nBongsup Cho\, PhD\, RI-INBRE
URL:https://opioidcobre.org/event/covid-19-vaccine-update/
LOCATION:Virtual
CATEGORIES:Local Events
END:VEVENT
END:VCALENDAR