BEGIN:VCALENDAR
VERSION:2.0
PRODID:-//Opioid COBRE Center - ECPv6.15.17.1//NONSGML v1.0//EN
CALSCALE:GREGORIAN
METHOD:PUBLISH
X-ORIGINAL-URL:https://opioidcobre.org
X-WR-CALDESC:Events for Opioid COBRE Center
REFRESH-INTERVAL;VALUE=DURATION:PT1H
X-Robots-Tag:noindex
X-PUBLISHED-TTL:PT1H
BEGIN:VTIMEZONE
TZID:America/New_York
BEGIN:DAYLIGHT
TZOFFSETFROM:-0500
TZOFFSETTO:-0400
TZNAME:EDT
DTSTART:20240310T070000
END:DAYLIGHT
BEGIN:STANDARD
TZOFFSETFROM:-0400
TZOFFSETTO:-0500
TZNAME:EST
DTSTART:20241103T060000
END:STANDARD
BEGIN:DAYLIGHT
TZOFFSETFROM:-0500
TZOFFSETTO:-0400
TZNAME:EDT
DTSTART:20250309T070000
END:DAYLIGHT
BEGIN:STANDARD
TZOFFSETFROM:-0400
TZOFFSETTO:-0500
TZNAME:EST
DTSTART:20251102T060000
END:STANDARD
BEGIN:DAYLIGHT
TZOFFSETFROM:-0500
TZOFFSETTO:-0400
TZNAME:EDT
DTSTART:20260308T070000
END:DAYLIGHT
BEGIN:STANDARD
TZOFFSETFROM:-0400
TZOFFSETTO:-0500
TZNAME:EST
DTSTART:20261101T060000
END:STANDARD
END:VTIMEZONE
BEGIN:VEVENT
DTSTART;TZID=America/New_York:20250224T140000
DTEND;TZID=America/New_York:20250224T153000
DTSTAMP:20260422T065811
CREATED:20250210T153440Z
LAST-MODIFIED:20250218T154325Z
UID:10000185-1740405600-1740411000@opioidcobre.org
SUMMARY:COBRE workshop on drug-checking findings for the Community Use and Testing Study (CUTS)
DESCRIPTION:The COBRE’s T2 core will be hosting a hybrid workshop on drug-checking findings from the Community Use and Testing Study (CUTS)\, an NIH-funded study on drug supply impacts in Rhode Island. Attendees will also learn how to access StreetCheck\, a free platform with drug-checking results from Northeast states. The workshop is scheduled for Monday\, February 24th from 2:00 pm to 3:30 pm at the Community Collaborative Space located at 339 Eddy Street in Providence. \nPlease reserve a ticket here
URL:https://opioidcobre.org/event/cobre-workshop-on-drug-checking-findings-for-the-community-use-and-testing-study-cuts/
LOCATION:Community Collaborative Space\, 339 Eddy Street\, Providence\, RI\, 02903\, United States
CATEGORIES:COBRE Events
ATTACH;FMTTYPE=image/png:https://opioidcobre.org/wp-content/uploads/2025/01/Community-Drug-Checking-Workshop.png
END:VEVENT
END:VCALENDAR